BEGIN:VCALENDAR
VERSION:2.0
PRODID:-//長崎県テニス協会 - ECPv6.9.0//NONSGML v1.0//EN
CALSCALE:GREGORIAN
METHOD:PUBLISH
X-ORIGINAL-URL:https://nagasaki-pref-tennis.com
X-WR-CALDESC:長崎県テニス協会 のイベント
REFRESH-INTERVAL;VALUE=DURATION:PT1H
X-Robots-Tag:noindex
X-PUBLISHED-TTL:PT1H
BEGIN:VTIMEZONE
TZID:Asia/Tokyo
BEGIN:STANDARD
TZOFFSETFROM:+0900
TZOFFSETTO:+0900
TZNAME:JST
DTSTART:20250101T000000
END:STANDARD
END:VTIMEZONE
BEGIN:VEVENT
DTSTART;VALUE=DATE:20250913
DTEND;VALUE=DATE:20250916
DTSTAMP:20260420T185415
CREATED:20250204T032741Z
LAST-MODIFIED:20250204T032741Z
UID:4503-1757721600-1757980799@nagasaki-pref-tennis.com
SUMMARY:第38回長崎県高等学校テニス選手権シングルス大会
DESCRIPTION:
URL:https://nagasaki-pref-tennis.com/event/%e7%ac%ac38%e5%9b%9e%e9%95%b7%e5%b4%8e%e7%9c%8c%e9%ab%98%e7%ad%89%e5%ad%a6%e6%a0%a1%e3%83%86%e3%83%8b%e3%82%b9%e9%81%b8%e6%89%8b%e6%a8%a9%e3%82%b7%e3%83%b3%e3%82%b0%e3%83%ab%e3%82%b9%e5%a4%a7%e4%bc%9a/
LOCATION:平和公園
END:VEVENT
BEGIN:VEVENT
DTSTART;VALUE=DATE:20250915
DTEND;VALUE=DATE:20250916
DTSTAMP:20260420T185415
CREATED:20250218T225411Z
LAST-MODIFIED:20250218T225411Z
UID:4586-1757894400-1757980799@nagasaki-pref-tennis.com
SUMMARY:第40回長崎県ジュニアリーグテニス大会
DESCRIPTION:
URL:https://nagasaki-pref-tennis.com/event/%e7%ac%ac40%e5%9b%9e%e9%95%b7%e5%b4%8e%e7%9c%8c%e3%82%b8%e3%83%a5%e3%83%8b%e3%82%a2%e3%83%aa%e3%83%bc%e3%82%b0%e3%83%86%e3%83%8b%e3%82%b9%e5%a4%a7%e4%bc%9a/
LOCATION:佐世保市総合
END:VEVENT
END:VCALENDAR