BEGIN:VCALENDAR
VERSION:2.0
PRODID:-//長崎県テニス協会 - ECPv6.9.0//NONSGML v1.0//EN
CALSCALE:GREGORIAN
METHOD:PUBLISH
X-ORIGINAL-URL:https://nagasaki-pref-tennis.com
X-WR-CALDESC:長崎県テニス協会 のイベント
REFRESH-INTERVAL;VALUE=DURATION:PT1H
X-Robots-Tag:noindex
X-PUBLISHED-TTL:PT1H
BEGIN:VTIMEZONE
TZID:Asia/Tokyo
BEGIN:STANDARD
TZOFFSETFROM:+0900
TZOFFSETTO:+0900
TZNAME:JST
DTSTART:20250101T000000
END:STANDARD
END:VTIMEZONE
BEGIN:VEVENT
DTSTART;VALUE=DATE:20250823
DTEND;VALUE=DATE:20250825
DTSTAMP:20260421T010029
CREATED:20250218T225247Z
LAST-MODIFIED:20250218T225247Z
UID:4584-1755907200-1756079999@nagasaki-pref-tennis.com
SUMMARY:第15回長崎県中学生学年別テニス大会
DESCRIPTION:
URL:https://nagasaki-pref-tennis.com/event/%e7%ac%ac15%e5%9b%9e%e9%95%b7%e5%b4%8e%e7%9c%8c%e4%b8%ad%e5%ad%a6%e7%94%9f%e5%ad%a6%e5%b9%b4%e5%88%a5%e3%83%86%e3%83%8b%e3%82%b9%e5%a4%a7%e4%bc%9a/
LOCATION:佐世保市総合
END:VEVENT
END:VCALENDAR