BEGIN:VCALENDAR
VERSION:2.0
PRODID:-//長崎県テニス協会 - ECPv6.9.0//NONSGML v1.0//EN
CALSCALE:GREGORIAN
METHOD:PUBLISH
X-ORIGINAL-URL:https://nagasaki-pref-tennis.com
X-WR-CALDESC:長崎県テニス協会 のイベント
REFRESH-INTERVAL;VALUE=DURATION:PT1H
X-Robots-Tag:noindex
X-PUBLISHED-TTL:PT1H
BEGIN:VTIMEZONE
TZID:Asia/Tokyo
BEGIN:STANDARD
TZOFFSETFROM:+0900
TZOFFSETTO:+0900
TZNAME:JST
DTSTART:20250101T000000
END:STANDARD
END:VTIMEZONE
BEGIN:VEVENT
DTSTART;VALUE=DATE:20250524
DTEND;VALUE=DATE:20250526
DTSTAMP:20260423T005958
CREATED:20250204T003610Z
LAST-MODIFIED:20250204T003610Z
UID:4461-1748044800-1748217599@nagasaki-pref-tennis.com
SUMMARY:国スポ最終予選会（成年男女）
DESCRIPTION:
URL:https://nagasaki-pref-tennis.com/event/%e5%9b%bd%e3%82%b9%e3%83%9d%e6%9c%80%e7%b5%82%e4%ba%88%e9%81%b8%e4%bc%9a%ef%bc%88%e6%88%90%e5%b9%b4%e7%94%b7%e5%a5%b3%ef%bc%89/
LOCATION:平和公園
END:VEVENT
BEGIN:VEVENT
DTSTART;VALUE=DATE:20250525
DTEND;VALUE=DATE:20250526
DTSTAMP:20260423T005958
CREATED:20250204T003937Z
LAST-MODIFIED:20250204T003937Z
UID:4465-1748131200-1748217599@nagasaki-pref-tennis.com
SUMMARY:第48回ダンロップテニス県大会兼第36回県央テニス大会
DESCRIPTION:
URL:https://nagasaki-pref-tennis.com/event/%e7%ac%ac48%e5%9b%9e%e3%83%80%e3%83%b3%e3%83%ad%e3%83%83%e3%83%97%e3%83%86%e3%83%8b%e3%82%b9%e7%9c%8c%e5%a4%a7%e4%bc%9a%e5%85%bc%e7%ac%ac36%e5%9b%9e%e7%9c%8c%e5%a4%ae%e3%83%86%e3%83%8b%e3%82%b9/
LOCATION:諫早総合運動公園
END:VEVENT
END:VCALENDAR