BEGIN:VCALENDAR
VERSION:2.0
PRODID:-//長崎県テニス協会 - ECPv6.9.0//NONSGML v1.0//EN
CALSCALE:GREGORIAN
METHOD:PUBLISH
X-WR-CALNAME:長崎県テニス協会
X-ORIGINAL-URL:https://nagasaki-pref-tennis.com
X-WR-CALDESC:長崎県テニス協会 のイベント
REFRESH-INTERVAL;VALUE=DURATION:PT1H
X-Robots-Tag:noindex
X-PUBLISHED-TTL:PT1H
BEGIN:VTIMEZONE
TZID:Asia/Tokyo
BEGIN:STANDARD
TZOFFSETFROM:+0900
TZOFFSETTO:+0900
TZNAME:JST
DTSTART:20250101T000000
END:STANDARD
END:VTIMEZONE
BEGIN:VEVENT
DTSTART;VALUE=DATE:20250111
DTEND;VALUE=DATE:20250112
DTSTAMP:20260423T061742
CREATED:20240518T002733Z
LAST-MODIFIED:20240518T002733Z
UID:3495-1736553600-1736639999@nagasaki-pref-tennis.com
SUMMARY:第13回がんばらんばカップテニス大会
DESCRIPTION:
URL:https://nagasaki-pref-tennis.com/event/%e7%ac%ac13%e5%9b%9e%e3%81%8c%e3%82%93%e3%81%b0%e3%82%89%e3%82%93%e3%81%b0%e3%82%ab%e3%83%83%e3%83%97%e3%83%86%e3%83%8b%e3%82%b9%e5%a4%a7%e4%bc%9a/
LOCATION:かきどまり
END:VEVENT
BEGIN:VEVENT
DTSTART;VALUE=DATE:20250111
DTEND;VALUE=DATE:20250113
DTSTAMP:20260423T061742
CREATED:20240518T002551Z
LAST-MODIFIED:20240518T002611Z
UID:3491-1736553600-1736726399@nagasaki-pref-tennis.com
SUMMARY:第34回長崎県教職員テニス大会
DESCRIPTION:
URL:https://nagasaki-pref-tennis.com/event/%e7%ac%ac34%e5%9b%9e%e9%95%b7%e5%b4%8e%e7%9c%8c%e6%95%99%e8%81%b7%e5%93%a1%e3%83%86%e3%83%8b%e3%82%b9%e5%a4%a7%e4%bc%9a/
LOCATION:平和公園
END:VEVENT
END:VCALENDAR