BEGIN:VCALENDAR
VERSION:2.0
PRODID:-//長崎県テニス協会 - ECPv6.9.0//NONSGML v1.0//EN
CALSCALE:GREGORIAN
METHOD:PUBLISH
X-ORIGINAL-URL:https://nagasaki-pref-tennis.com
X-WR-CALDESC:長崎県テニス協会 のイベント
REFRESH-INTERVAL;VALUE=DURATION:PT1H
X-Robots-Tag:noindex
X-PUBLISHED-TTL:PT1H
BEGIN:VTIMEZONE
TZID:Asia/Tokyo
BEGIN:STANDARD
TZOFFSETFROM:+0900
TZOFFSETTO:+0900
TZNAME:JST
DTSTART:20240101T000000
END:STANDARD
END:VTIMEZONE
BEGIN:VEVENT
DTSTART;VALUE=DATE:20241221
DTEND;VALUE=DATE:20241223
DTSTAMP:20260423T072551
CREATED:20240518T002346Z
LAST-MODIFIED:20240518T002346Z
UID:3489-1734739200-1734911999@nagasaki-pref-tennis.com
SUMMARY:第13回長崎県高等学校冬季テニス選手権大会
DESCRIPTION:
URL:https://nagasaki-pref-tennis.com/event/%e7%ac%ac13%e5%9b%9e%e9%95%b7%e5%b4%8e%e7%9c%8c%e9%ab%98%e7%ad%89%e5%ad%a6%e6%a0%a1%e5%86%ac%e5%ad%a3%e3%83%86%e3%83%8b%e3%82%b9%e9%81%b8%e6%89%8b%e6%a8%a9%e5%a4%a7%e4%bc%9a-2/
LOCATION:かきどまり
END:VEVENT
END:VCALENDAR