BEGIN:VCALENDAR
VERSION:2.0
PRODID:-//長崎県テニス協会 - ECPv6.9.0//NONSGML v1.0//EN
CALSCALE:GREGORIAN
METHOD:PUBLISH
X-ORIGINAL-URL:https://nagasaki-pref-tennis.com
X-WR-CALDESC:長崎県テニス協会 のイベント
REFRESH-INTERVAL;VALUE=DURATION:PT1H
X-Robots-Tag:noindex
X-PUBLISHED-TTL:PT1H
BEGIN:VTIMEZONE
TZID:Asia/Tokyo
BEGIN:STANDARD
TZOFFSETFROM:+0900
TZOFFSETTO:+0900
TZNAME:JST
DTSTART:20240101T000000
END:STANDARD
END:VTIMEZONE
BEGIN:VEVENT
DTSTART;VALUE=DATE:20241207
DTEND;VALUE=DATE:20241209
DTSTAMP:20260423T072449
CREATED:20240518T001947Z
LAST-MODIFIED:20240518T001947Z
UID:3483-1733529600-1733702399@nagasaki-pref-tennis.com
SUMMARY:2024KTN杯　第40回長崎県選手権
DESCRIPTION:
URL:https://nagasaki-pref-tennis.com/event/2024ktn%e6%9d%af%e3%80%80%e7%ac%ac40%e5%9b%9e%e9%95%b7%e5%b4%8e%e7%9c%8c%e9%81%b8%e6%89%8b%e6%a8%a9/
LOCATION:かきどまり
END:VEVENT
BEGIN:VEVENT
DTSTART;VALUE=DATE:20241207
DTEND;VALUE=DATE:20241209
DTSTAMP:20260423T072449
CREATED:20240518T002103Z
LAST-MODIFIED:20240518T002103Z
UID:3485-1733529600-1733702399@nagasaki-pref-tennis.com
SUMMARY:2025MUFGジュニア県予選
DESCRIPTION:
URL:https://nagasaki-pref-tennis.com/event/2025mufg%e3%82%b8%e3%83%a5%e3%83%8b%e3%82%a2%e7%9c%8c%e4%ba%88%e9%81%b8/
LOCATION:平和公園
END:VEVENT
END:VCALENDAR