BEGIN:VCALENDAR
VERSION:2.0
PRODID:-//長崎県テニス協会 - ECPv6.9.0//NONSGML v1.0//EN
CALSCALE:GREGORIAN
METHOD:PUBLISH
X-WR-CALNAME:長崎県テニス協会
X-ORIGINAL-URL:https://nagasaki-pref-tennis.com
X-WR-CALDESC:長崎県テニス協会 のイベント
REFRESH-INTERVAL;VALUE=DURATION:PT1H
X-Robots-Tag:noindex
X-PUBLISHED-TTL:PT1H
BEGIN:VTIMEZONE
TZID:Asia/Tokyo
BEGIN:STANDARD
TZOFFSETFROM:+0900
TZOFFSETTO:+0900
TZNAME:JST
DTSTART:20240101T000000
END:STANDARD
END:VTIMEZONE
BEGIN:VEVENT
DTSTART;VALUE=DATE:20240810
DTEND;VALUE=DATE:20240811
DTSTAMP:20260423T141937
CREATED:20240214T223519Z
LAST-MODIFIED:20240214T223519Z
UID:3084-1723248000-1723334399@nagasaki-pref-tennis.com
SUMMARY:第38回長崎県教職員大会
DESCRIPTION:
URL:https://nagasaki-pref-tennis.com/event/%e7%ac%ac38%e5%9b%9e%e9%95%b7%e5%b4%8e%e7%9c%8c%e6%95%99%e8%81%b7%e5%93%a1%e5%a4%a7%e4%bc%9a/
LOCATION:平和公園
END:VEVENT
END:VCALENDAR