BEGIN:VCALENDAR
VERSION:2.0
PRODID:-//長崎県テニス協会 - ECPv6.9.0//NONSGML v1.0//EN
CALSCALE:GREGORIAN
METHOD:PUBLISH
X-WR-CALNAME:長崎県テニス協会
X-ORIGINAL-URL:https://nagasaki-pref-tennis.com
X-WR-CALDESC:長崎県テニス協会 のイベント
REFRESH-INTERVAL;VALUE=DURATION:PT1H
X-Robots-Tag:noindex
X-PUBLISHED-TTL:PT1H
BEGIN:VTIMEZONE
TZID:Asia/Tokyo
BEGIN:STANDARD
TZOFFSETFROM:+0900
TZOFFSETTO:+0900
TZNAME:JST
DTSTART:20240101T000000
END:STANDARD
END:VTIMEZONE
BEGIN:VEVENT
DTSTART;VALUE=DATE:20240803
DTEND;VALUE=DATE:20240807
DTSTAMP:20260423T130316
CREATED:20240214T223329Z
LAST-MODIFIED:20240214T223329Z
UID:3082-1722643200-1722988799@nagasaki-pref-tennis.com
SUMMARY:第98回雲仙国際テニストーナメント
DESCRIPTION:
URL:https://nagasaki-pref-tennis.com/event/%e7%ac%ac98%e5%9b%9e%e9%9b%b2%e4%bb%99%e5%9b%bd%e9%9a%9b%e3%83%86%e3%83%8b%e3%82%b9%e3%83%88%e3%83%bc%e3%83%8a%e3%83%a1%e3%83%b3%e3%83%88/
LOCATION:県営雲仙コート
END:VEVENT
END:VCALENDAR