BEGIN:VCALENDAR
VERSION:2.0
PRODID:-//長崎県テニス協会 - ECPv6.9.0//NONSGML v1.0//EN
CALSCALE:GREGORIAN
METHOD:PUBLISH
X-WR-CALNAME:長崎県テニス協会
X-ORIGINAL-URL:https://nagasaki-pref-tennis.com
X-WR-CALDESC:長崎県テニス協会 のイベント
REFRESH-INTERVAL;VALUE=DURATION:PT1H
X-Robots-Tag:noindex
X-PUBLISHED-TTL:PT1H
BEGIN:VTIMEZONE
TZID:Asia/Tokyo
BEGIN:STANDARD
TZOFFSETFROM:+0900
TZOFFSETTO:+0900
TZNAME:JST
DTSTART:20240101T000000
END:STANDARD
END:VTIMEZONE
BEGIN:VEVENT
DTSTART;VALUE=DATE:20240725
DTEND;VALUE=DATE:20240726
DTSTAMP:20260423T142613
CREATED:20240214T222259Z
LAST-MODIFIED:20240517T234237Z
UID:3066-1721865600-1721951999@nagasaki-pref-tennis.com
SUMMARY:国スポ少年男女一次予選会
DESCRIPTION:
URL:https://nagasaki-pref-tennis.com/event/%e5%9b%bd%e3%82%b9%e3%83%9d%e5%b0%91%e5%b9%b4%e7%94%b7%e5%a5%b3%e4%b8%80%e6%ac%a1%e4%ba%88%e9%81%b8%e4%bc%9a/
LOCATION:平和公園
END:VEVENT
END:VCALENDAR