BEGIN:VCALENDAR
VERSION:2.0
PRODID:-//長崎県テニス協会 - ECPv6.9.0//NONSGML v1.0//EN
CALSCALE:GREGORIAN
METHOD:PUBLISH
X-WR-CALNAME:長崎県テニス協会
X-ORIGINAL-URL:https://nagasaki-pref-tennis.com
X-WR-CALDESC:長崎県テニス協会 のイベント
REFRESH-INTERVAL;VALUE=DURATION:PT1H
X-Robots-Tag:noindex
X-PUBLISHED-TTL:PT1H
BEGIN:VTIMEZONE
TZID:Asia/Tokyo
BEGIN:STANDARD
TZOFFSETFROM:+0900
TZOFFSETTO:+0900
TZNAME:JST
DTSTART:20240101T000000
END:STANDARD
END:VTIMEZONE
BEGIN:VEVENT
DTSTART;VALUE=DATE:20240713
DTEND;VALUE=DATE:20240714
DTSTAMP:20260423T142613
CREATED:20240214T222518Z
LAST-MODIFIED:20240214T222518Z
UID:3070-1720828800-1720915199@nagasaki-pref-tennis.com
SUMMARY:協会長杯高校テニス大会
DESCRIPTION:
URL:https://nagasaki-pref-tennis.com/event/%e5%8d%94%e4%bc%9a%e9%95%b7%e6%9d%af%e9%ab%98%e6%a0%a1%e3%83%86%e3%83%8b%e3%82%b9%e5%a4%a7%e4%bc%9a/
LOCATION:かきどまり
END:VEVENT
BEGIN:VEVENT
DTSTART;VALUE=DATE:20240713
DTEND;VALUE=DATE:20240715
DTSTAMP:20260423T142613
CREATED:20240214T222940Z
LAST-MODIFIED:20240214T222940Z
UID:3072-1720828800-1721001599@nagasaki-pref-tennis.com
SUMMARY:令和6年度国民スポーツ大会　第44回九州ブロック大会（成年男女）
DESCRIPTION:
URL:https://nagasaki-pref-tennis.com/event/%e4%bb%a4%e5%92%8c6%e5%b9%b4%e5%ba%a6%e5%9b%bd%e6%b0%91%e3%82%b9%e3%83%9d%e3%83%bc%e3%83%84%e5%a4%a7%e4%bc%9a%e3%80%80%e7%ac%ac44%e5%9b%9e%e4%b9%9d%e5%b7%9e%e3%83%96%e3%83%ad%e3%83%83%e3%82%af/
LOCATION:宮崎市生目の杜　他
END:VEVENT
END:VCALENDAR