BEGIN:VCALENDAR
VERSION:2.0
PRODID:-//長崎県テニス協会 - ECPv6.9.0//NONSGML v1.0//EN
CALSCALE:GREGORIAN
METHOD:PUBLISH
X-ORIGINAL-URL:https://nagasaki-pref-tennis.com
X-WR-CALDESC:長崎県テニス協会 のイベント
REFRESH-INTERVAL;VALUE=DURATION:PT1H
X-Robots-Tag:noindex
X-PUBLISHED-TTL:PT1H
BEGIN:VTIMEZONE
TZID:Asia/Tokyo
BEGIN:STANDARD
TZOFFSETFROM:+0900
TZOFFSETTO:+0900
TZNAME:JST
DTSTART:20240101T000000
END:STANDARD
END:VTIMEZONE
BEGIN:VEVENT
DTSTART;VALUE=DATE:20240601
DTEND;VALUE=DATE:20240605
DTSTAMP:20260423T164216
CREATED:20240214T221643Z
LAST-MODIFIED:20240214T221643Z
UID:3061-1717200000-1717545599@nagasaki-pref-tennis.com
SUMMARY:第76回長崎県高等学校総合体育大会テニス競技
DESCRIPTION:
URL:https://nagasaki-pref-tennis.com/event/%e7%ac%ac76%e5%9b%9e%e9%95%b7%e5%b4%8e%e7%9c%8c%e9%ab%98%e7%ad%89%e5%ad%a6%e6%a0%a1%e7%b7%8f%e5%90%88%e4%bd%93%e8%82%b2%e5%a4%a7%e4%bc%9a%e3%83%86%e3%83%8b%e3%82%b9%e7%ab%b6%e6%8a%80/
LOCATION:佐世保市総合
END:VEVENT
END:VCALENDAR