BEGIN:VCALENDAR
VERSION:2.0
PRODID:-//長崎県テニス協会 - ECPv6.9.0//NONSGML v1.0//EN
CALSCALE:GREGORIAN
METHOD:PUBLISH
X-WR-CALNAME:長崎県テニス協会
X-ORIGINAL-URL:https://nagasaki-pref-tennis.com
X-WR-CALDESC:長崎県テニス協会 のイベント
REFRESH-INTERVAL;VALUE=DURATION:PT1H
X-Robots-Tag:noindex
X-PUBLISHED-TTL:PT1H
BEGIN:VTIMEZONE
TZID:Asia/Tokyo
BEGIN:STANDARD
TZOFFSETFROM:+0900
TZOFFSETTO:+0900
TZNAME:JST
DTSTART:20240101T000000
END:STANDARD
END:VTIMEZONE
BEGIN:VEVENT
DTSTART;VALUE=DATE:20240511
DTEND;VALUE=DATE:20240512
DTSTAMP:20260423T164133
CREATED:20240214T220843Z
LAST-MODIFIED:20240214T220843Z
UID:3051-1715385600-1715471999@nagasaki-pref-tennis.com
SUMMARY:第21回ねんりんピック長崎大会
DESCRIPTION:
URL:https://nagasaki-pref-tennis.com/event/%e7%ac%ac21%e5%9b%9e%e3%81%ad%e3%82%93%e3%82%8a%e3%82%93%e3%83%94%e3%83%83%e3%82%af%e9%95%b7%e5%b4%8e%e5%a4%a7%e4%bc%9a/
LOCATION:かきどまり
END:VEVENT
END:VCALENDAR