BEGIN:VCALENDAR
VERSION:2.0
PRODID:-//長崎県テニス協会 - ECPv6.9.0//NONSGML v1.0//EN
CALSCALE:GREGORIAN
METHOD:PUBLISH
X-WR-CALNAME:長崎県テニス協会
X-ORIGINAL-URL:https://nagasaki-pref-tennis.com
X-WR-CALDESC:長崎県テニス協会 のイベント
REFRESH-INTERVAL;VALUE=DURATION:PT1H
X-Robots-Tag:noindex
X-PUBLISHED-TTL:PT1H
BEGIN:VTIMEZONE
TZID:Asia/Tokyo
BEGIN:STANDARD
TZOFFSETFROM:+0900
TZOFFSETTO:+0900
TZNAME:JST
DTSTART:20240101T000000
END:STANDARD
END:VTIMEZONE
BEGIN:VEVENT
DTSTART;VALUE=DATE:20240503
DTEND;VALUE=DATE:20240505
DTSTAMP:20260423T164135
CREATED:20240214T220616Z
LAST-MODIFIED:20240214T220616Z
UID:3046-1714694400-1714867199@nagasaki-pref-tennis.com
SUMMARY:第28回長崎県中学生テニス選手権大会（個人戦）
DESCRIPTION:
URL:https://nagasaki-pref-tennis.com/event/%e7%ac%ac28%e5%9b%9e%e9%95%b7%e5%b4%8e%e7%9c%8c%e4%b8%ad%e5%ad%a6%e7%94%9f%e3%83%86%e3%83%8b%e3%82%b9%e9%81%b8%e6%89%8b%e6%a8%a9%e5%a4%a7%e4%bc%9a%ef%bc%88%e5%80%8b%e4%ba%ba%e6%88%a6%ef%bc%89/
LOCATION:諫早総合運動公園
END:VEVENT
END:VCALENDAR