BEGIN:VCALENDAR
VERSION:2.0
PRODID:-//長崎県テニス協会 - ECPv6.9.0//NONSGML v1.0//EN
CALSCALE:GREGORIAN
METHOD:PUBLISH
X-WR-CALNAME:長崎県テニス協会
X-ORIGINAL-URL:https://nagasaki-pref-tennis.com
X-WR-CALDESC:長崎県テニス協会 のイベント
REFRESH-INTERVAL;VALUE=DURATION:PT1H
X-Robots-Tag:noindex
X-PUBLISHED-TTL:PT1H
BEGIN:VTIMEZONE
TZID:Asia/Tokyo
BEGIN:STANDARD
TZOFFSETFROM:+0900
TZOFFSETTO:+0900
TZNAME:JST
DTSTART:20240101T000000
END:STANDARD
END:VTIMEZONE
BEGIN:VEVENT
DTSTART;VALUE=DATE:20240327
DTEND;VALUE=DATE:20240330
DTSTAMP:20260423T191210
CREATED:20230321T081446Z
LAST-MODIFIED:20230321T081453Z
UID:2092-1711497600-1711756799@nagasaki-pref-tennis.com
SUMMARY:第51回九州ジュニア
DESCRIPTION:
URL:https://nagasaki-pref-tennis.com/event/%e7%ac%ac51%e5%9b%9e%e4%b9%9d%e5%b7%9e%e3%82%b8%e3%83%a5%e3%83%8b%e3%82%a2/
LOCATION:かきどまり
END:VEVENT
END:VCALENDAR