BEGIN:VCALENDAR
VERSION:2.0
PRODID:-//長崎県テニス協会 - ECPv6.9.0//NONSGML v1.0//EN
CALSCALE:GREGORIAN
METHOD:PUBLISH
X-ORIGINAL-URL:https://nagasaki-pref-tennis.com
X-WR-CALDESC:長崎県テニス協会 のイベント
REFRESH-INTERVAL;VALUE=DURATION:PT1H
X-Robots-Tag:noindex
X-PUBLISHED-TTL:PT1H
BEGIN:VTIMEZONE
TZID:Asia/Tokyo
BEGIN:STANDARD
TZOFFSETFROM:+0900
TZOFFSETTO:+0900
TZNAME:JST
DTSTART:20240101T000000
END:STANDARD
END:VTIMEZONE
BEGIN:VEVENT
DTSTART;VALUE=DATE:20240309
DTEND;VALUE=DATE:20240311
DTSTAMP:20260423T191303
CREATED:20230321T081346Z
LAST-MODIFIED:20230321T081346Z
UID:2090-1709942400-1710115199@nagasaki-pref-tennis.com
SUMMARY:第33回崎陽杯
DESCRIPTION:
URL:https://nagasaki-pref-tennis.com/event/%e7%ac%ac33%e5%9b%9e%e5%b4%8e%e9%99%bd%e6%9d%af/
LOCATION:かきどまり
END:VEVENT
END:VCALENDAR