BEGIN:VCALENDAR
VERSION:2.0
PRODID:-//長崎県テニス協会 - ECPv6.9.0//NONSGML v1.0//EN
CALSCALE:GREGORIAN
METHOD:PUBLISH
X-ORIGINAL-URL:https://nagasaki-pref-tennis.com
X-WR-CALDESC:長崎県テニス協会 のイベント
REFRESH-INTERVAL;VALUE=DURATION:PT1H
X-Robots-Tag:noindex
X-PUBLISHED-TTL:PT1H
BEGIN:VTIMEZONE
TZID:Asia/Tokyo
BEGIN:STANDARD
TZOFFSETFROM:+0900
TZOFFSETTO:+0900
TZNAME:JST
DTSTART:20250101T000000
END:STANDARD
END:VTIMEZONE
BEGIN:VEVENT
DTSTART;TZID=Asia/Tokyo:20250531T080000
DTEND;TZID=Asia/Tokyo:20250603T170000
DTSTAMP:20260422T215332
CREATED:20250204T004244Z
LAST-MODIFIED:20250204T004244Z
UID:4469-1748678400-1748970000@nagasaki-pref-tennis.com
SUMMARY:第77回長崎県高等学校総合体育大会テニス競技
DESCRIPTION:
URL:https://nagasaki-pref-tennis.com/event/%e7%ac%ac77%e5%9b%9e%e9%95%b7%e5%b4%8e%e7%9c%8c%e9%ab%98%e7%ad%89%e5%ad%a6%e6%a0%a1%e7%b7%8f%e5%90%88%e4%bd%93%e8%82%b2%e5%a4%a7%e4%bc%9a%e3%83%86%e3%83%8b%e3%82%b9%e7%ab%b6%e6%8a%80/
LOCATION:かきどまり
END:VEVENT
BEGIN:VEVENT
DTSTART;VALUE=DATE:20250614
DTEND;VALUE=DATE:20250615
DTSTAMP:20260422T215332
CREATED:20250204T004410Z
LAST-MODIFIED:20250204T004410Z
UID:4471-1749859200-1749945599@nagasaki-pref-tennis.com
SUMMARY:桑名杯レディーステニス大会2025　by　DUNLOP
DESCRIPTION:
URL:https://nagasaki-pref-tennis.com/event/%e6%a1%91%e5%90%8d%e6%9d%af%e3%83%ac%e3%83%87%e3%82%a3%e3%83%bc%e3%82%b9%e3%83%86%e3%83%8b%e3%82%b9%e5%a4%a7%e4%bc%9a2025%e3%80%80by%e3%80%80dunlop/
LOCATION:かきどまり
END:VEVENT
BEGIN:VEVENT
DTSTART;VALUE=DATE:20250621
DTEND;VALUE=DATE:20250623
DTSTAMP:20260422T215332
CREATED:20250204T004555Z
LAST-MODIFIED:20250204T004642Z
UID:4473-1750464000-1750636799@nagasaki-pref-tennis.com
SUMMARY:第39回全日本選手権予選・日本マスターズ2025県予選
DESCRIPTION:
URL:https://nagasaki-pref-tennis.com/event/%e7%ac%ac39%e5%9b%9e%e5%85%a8%e6%97%a5%e6%9c%ac%e9%81%b8%e6%89%8b%e6%a8%a9%e4%ba%88%e9%81%b8%e3%83%bb%e6%97%a5%e6%9c%ac%e3%83%9e%e3%82%b9%e3%82%bf%e3%83%bc%e3%82%ba2025%e7%9c%8c%e4%ba%88%e9%81%b8/
LOCATION:かきどまり
END:VEVENT
BEGIN:VEVENT
DTSTART;VALUE=DATE:20250629
DTEND;VALUE=DATE:20250630
DTSTAMP:20260422T215332
CREATED:20250204T004828Z
LAST-MODIFIED:20250204T004828Z
UID:4475-1751155200-1751241599@nagasaki-pref-tennis.com
SUMMARY:第22回ピンクリボンレディーステニス大会長崎県大会
DESCRIPTION:
URL:https://nagasaki-pref-tennis.com/event/%e7%ac%ac22%e5%9b%9e%e3%83%94%e3%83%b3%e3%82%af%e3%83%aa%e3%83%9c%e3%83%b3%e3%83%ac%e3%83%87%e3%82%a3%e3%83%bc%e3%82%b9%e3%83%86%e3%83%8b%e3%82%b9%e5%a4%a7%e4%bc%9a%e9%95%b7%e5%b4%8e%e7%9c%8c%e5%a4%a7/
LOCATION:平和公園
END:VEVENT
END:VCALENDAR