BEGIN:VCALENDAR
VERSION:2.0
PRODID:-//長崎県テニス協会 - ECPv6.9.0//NONSGML v1.0//EN
CALSCALE:GREGORIAN
METHOD:PUBLISH
X-ORIGINAL-URL:https://nagasaki-pref-tennis.com
X-WR-CALDESC:長崎県テニス協会 のイベント
REFRESH-INTERVAL;VALUE=DURATION:PT1H
X-Robots-Tag:noindex
X-PUBLISHED-TTL:PT1H
BEGIN:VTIMEZONE
TZID:Asia/Tokyo
BEGIN:STANDARD
TZOFFSETFROM:+0900
TZOFFSETTO:+0900
TZNAME:JST
DTSTART:20250101T000000
END:STANDARD
END:VTIMEZONE
BEGIN:VEVENT
DTSTART;VALUE=DATE:20250405
DTEND;VALUE=DATE:20250407
DTSTAMP:20260423T010549
CREATED:20250204T002202Z
LAST-MODIFIED:20250204T002202Z
UID:4447-1743811200-1743983999@nagasaki-pref-tennis.com
SUMMARY:第73回佐世保テニストーナメント（国スポ一次予選）
DESCRIPTION:
URL:https://nagasaki-pref-tennis.com/event/%e7%ac%ac73%e5%9b%9e%e4%bd%90%e4%b8%96%e4%bf%9d%e3%83%86%e3%83%8b%e3%82%b9%e3%83%88%e3%83%bc%e3%83%8a%e3%83%a1%e3%83%b3%e3%83%88%ef%bc%88%e5%9b%bd%e3%82%b9%e3%83%9d%e4%b8%80%e6%ac%a1%e4%ba%88%e9%81%b8/
LOCATION:佐世保市総合
END:VEVENT
BEGIN:VEVENT
DTSTART;VALUE=DATE:20250406
DTEND;VALUE=DATE:20250407
DTSTAMP:20260423T010549
CREATED:20250204T002344Z
LAST-MODIFIED:20250204T002344Z
UID:4449-1743897600-1743983999@nagasaki-pref-tennis.com
SUMMARY:第37回長崎ミックステニス大会
DESCRIPTION:
URL:https://nagasaki-pref-tennis.com/event/%e7%ac%ac37%e5%9b%9e%e9%95%b7%e5%b4%8e%e3%83%9f%e3%83%83%e3%82%af%e3%82%b9%e3%83%86%e3%83%8b%e3%82%b9%e5%a4%a7%e4%bc%9a/
LOCATION:かきどまり
END:VEVENT
BEGIN:VEVENT
DTSTART;VALUE=DATE:20250426
DTEND;VALUE=DATE:20250428
DTSTAMP:20260423T010549
CREATED:20250204T003019Z
LAST-MODIFIED:20250204T003019Z
UID:4453-1745625600-1745798399@nagasaki-pref-tennis.com
SUMMARY:第52回九州ジュニア長崎県予選（U16～U10）
DESCRIPTION:
URL:https://nagasaki-pref-tennis.com/event/%e7%ac%ac52%e5%9b%9e%e4%b9%9d%e5%b7%9e%e3%82%b8%e3%83%a5%e3%83%8b%e3%82%a2%e9%95%b7%e5%b4%8e%e7%9c%8c%e4%ba%88%e9%81%b8%ef%bc%88u16%ef%bd%9eu10%ef%bc%89/
LOCATION:かきどまり
END:VEVENT
END:VCALENDAR