BEGIN:VCALENDAR
VERSION:2.0
PRODID:-//長崎県テニス協会 - ECPv6.9.0//NONSGML v1.0//EN
CALSCALE:GREGORIAN
METHOD:PUBLISH
X-ORIGINAL-URL:https://nagasaki-pref-tennis.com
X-WR-CALDESC:長崎県テニス協会 のイベント
REFRESH-INTERVAL;VALUE=DURATION:PT1H
X-Robots-Tag:noindex
X-PUBLISHED-TTL:PT1H
BEGIN:VTIMEZONE
TZID:Asia/Tokyo
BEGIN:STANDARD
TZOFFSETFROM:+0900
TZOFFSETTO:+0900
TZNAME:JST
DTSTART:20240101T000000
END:STANDARD
END:VTIMEZONE
BEGIN:VEVENT
DTSTART;VALUE=DATE:20241109
DTEND;VALUE=DATE:20241111
DTSTAMP:20260423T072550
CREATED:20240518T001607Z
LAST-MODIFIED:20240518T001607Z
UID:3477-1731110400-1731283199@nagasaki-pref-tennis.com
SUMMARY:令和６年度　第75回県民体育大会
DESCRIPTION:
URL:https://nagasaki-pref-tennis.com/event/%e4%bb%a4%e5%92%8c%ef%bc%96%e5%b9%b4%e5%ba%a6%e3%80%80%e7%ac%ac75%e5%9b%9e%e7%9c%8c%e6%b0%91%e4%bd%93%e8%82%b2%e5%a4%a7%e4%bc%9a/
LOCATION:諫早総合運動公園
END:VEVENT
BEGIN:VEVENT
DTSTART;VALUE=DATE:20241116
DTEND;VALUE=DATE:20241118
DTSTAMP:20260423T072550
CREATED:20240518T001717Z
LAST-MODIFIED:20240518T001717Z
UID:3479-1731715200-1731887999@nagasaki-pref-tennis.com
SUMMARY:第37回長崎ジュニアトーナメント
DESCRIPTION:
URL:https://nagasaki-pref-tennis.com/event/%e7%ac%ac37%e5%9b%9e%e9%95%b7%e5%b4%8e%e3%82%b8%e3%83%a5%e3%83%8b%e3%82%a2%e3%83%88%e3%83%bc%e3%83%8a%e3%83%a1%e3%83%b3%e3%83%88/
LOCATION:かきどまり
END:VEVENT
END:VCALENDAR