BEGIN:VCALENDAR
VERSION:2.0
PRODID:-//長崎県テニス協会 - ECPv6.9.0//NONSGML v1.0//EN
CALSCALE:GREGORIAN
METHOD:PUBLISH
X-WR-CALNAME:長崎県テニス協会
X-ORIGINAL-URL:https://nagasaki-pref-tennis.com
X-WR-CALDESC:長崎県テニス協会 のイベント
REFRESH-INTERVAL;VALUE=DURATION:PT1H
X-Robots-Tag:noindex
X-PUBLISHED-TTL:PT1H
BEGIN:VTIMEZONE
TZID:Asia/Tokyo
BEGIN:STANDARD
TZOFFSETFROM:+0900
TZOFFSETTO:+0900
TZNAME:JST
DTSTART:20240101T000000
END:STANDARD
END:VTIMEZONE
BEGIN:VEVENT
DTSTART;VALUE=DATE:20240928
DTEND;VALUE=DATE:20241002
DTSTAMP:20260423T084543
CREATED:20240518T001116Z
LAST-MODIFIED:20240518T001116Z
UID:3471-1727481600-1727827199@nagasaki-pref-tennis.com
SUMMARY:日本スポーツマスターズ2024長崎大会
DESCRIPTION:
URL:https://nagasaki-pref-tennis.com/event/%e6%97%a5%e6%9c%ac%e3%82%b9%e3%83%9d%e3%83%bc%e3%83%84%e3%83%9e%e3%82%b9%e3%82%bf%e3%83%bc%e3%82%ba2024%e9%95%b7%e5%b4%8e%e5%a4%a7%e4%bc%9a/
LOCATION:かきどまり
END:VEVENT
BEGIN:VEVENT
DTSTART;VALUE=DATE:20241005
DTEND;VALUE=DATE:20241007
DTSTAMP:20260423T084543
CREATED:20240518T001215Z
LAST-MODIFIED:20240518T001215Z
UID:3473-1728086400-1728259199@nagasaki-pref-tennis.com
SUMMARY:第73回長崎テニストーナメント
DESCRIPTION:
URL:https://nagasaki-pref-tennis.com/event/%e7%ac%ac73%e5%9b%9e%e9%95%b7%e5%b4%8e%e3%83%86%e3%83%8b%e3%82%b9%e3%83%88%e3%83%bc%e3%83%8a%e3%83%a1%e3%83%b3%e3%83%88/
LOCATION:かきどまり
END:VEVENT
BEGIN:VEVENT
DTSTART;VALUE=DATE:20241019
DTEND;VALUE=DATE:20241023
DTSTAMP:20260423T084543
CREATED:20240518T001427Z
LAST-MODIFIED:20240518T001427Z
UID:3475-1729296000-1729641599@nagasaki-pref-tennis.com
SUMMARY:令和６年度長崎県高等学校新人体育大会テニス競技　兼　第47回全国高等学校選抜テニス長崎県大会
DESCRIPTION:
URL:https://nagasaki-pref-tennis.com/event/%e4%bb%a4%e5%92%8c%ef%bc%96%e5%b9%b4%e5%ba%a6%e9%95%b7%e5%b4%8e%e7%9c%8c%e9%ab%98%e7%ad%89%e5%ad%a6%e6%a0%a1%e6%96%b0%e4%ba%ba%e4%bd%93%e8%82%b2%e5%a4%a7%e4%bc%9a%e3%83%86%e3%83%8b%e3%82%b9%e7%ab%b6/
LOCATION:かきどまり
END:VEVENT
END:VCALENDAR