BEGIN:VCALENDAR
VERSION:2.0
PRODID:-//長崎県テニス協会 - ECPv6.9.0//NONSGML v1.0//EN
CALSCALE:GREGORIAN
METHOD:PUBLISH
X-ORIGINAL-URL:https://nagasaki-pref-tennis.com
X-WR-CALDESC:長崎県テニス協会 のイベント
REFRESH-INTERVAL;VALUE=DURATION:PT1H
X-Robots-Tag:noindex
X-PUBLISHED-TTL:PT1H
BEGIN:VTIMEZONE
TZID:Asia/Tokyo
BEGIN:STANDARD
TZOFFSETFROM:+0900
TZOFFSETTO:+0900
TZNAME:JST
DTSTART:20240101T000000
END:STANDARD
END:VTIMEZONE
BEGIN:VEVENT
DTSTART;VALUE=DATE:20240914
DTEND;VALUE=DATE:20240918
DTSTAMP:20260423T100904
CREATED:20240517T235324Z
LAST-MODIFIED:20240517T235324Z
UID:3459-1726272000-1726617599@nagasaki-pref-tennis.com
SUMMARY:第37回長崎県高等学校テニス選手権シングルス大会
DESCRIPTION:
URL:https://nagasaki-pref-tennis.com/event/%e7%ac%ac37%e5%9b%9e%e9%95%b7%e5%b4%8e%e7%9c%8c%e9%ab%98%e7%ad%89%e5%ad%a6%e6%a0%a1%e3%83%86%e3%83%8b%e3%82%b9%e9%81%b8%e6%89%8b%e6%a8%a9%e3%82%b7%e3%83%b3%e3%82%b0%e3%83%ab%e3%82%b9%e5%a4%a7%e4%bc%9a/
LOCATION:平和公園
END:VEVENT
BEGIN:VEVENT
DTSTART;VALUE=DATE:20240916
DTEND;VALUE=DATE:20240917
DTSTAMP:20260423T100904
CREATED:20240517T235114Z
LAST-MODIFIED:20240517T235114Z
UID:3457-1726444800-1726531199@nagasaki-pref-tennis.com
SUMMARY:第39回長崎県ジュニアリーグテニス大会
DESCRIPTION:
URL:https://nagasaki-pref-tennis.com/event/%e7%ac%ac39%e5%9b%9e%e9%95%b7%e5%b4%8e%e7%9c%8c%e3%82%b8%e3%83%a5%e3%83%8b%e3%82%a2%e3%83%aa%e3%83%bc%e3%82%b0%e3%83%86%e3%83%8b%e3%82%b9%e5%a4%a7%e4%bc%9a/
LOCATION:佐世保市総合
END:VEVENT
BEGIN:VEVENT
DTSTART;VALUE=DATE:20240921
DTEND;VALUE=DATE:20240925
DTSTAMP:20260423T100904
CREATED:20240518T000535Z
LAST-MODIFIED:20240518T000535Z
UID:3461-1726876800-1727222399@nagasaki-pref-tennis.com
SUMMARY:SAGA2024国民スポーツ大会　テニス競技
DESCRIPTION:
URL:https://nagasaki-pref-tennis.com/event/saga2024%e5%9b%bd%e6%b0%91%e3%82%b9%e3%83%9d%e3%83%bc%e3%83%84%e5%a4%a7%e4%bc%9a%e3%80%80%e3%83%86%e3%83%8b%e3%82%b9%e7%ab%b6%e6%8a%80/
LOCATION:SAGAサンライズパーク・他
END:VEVENT
BEGIN:VEVENT
DTSTART;VALUE=DATE:20240928
DTEND;VALUE=DATE:20241002
DTSTAMP:20260423T100904
CREATED:20240518T001116Z
LAST-MODIFIED:20240518T001116Z
UID:3471-1727481600-1727827199@nagasaki-pref-tennis.com
SUMMARY:日本スポーツマスターズ2024長崎大会
DESCRIPTION:
URL:https://nagasaki-pref-tennis.com/event/%e6%97%a5%e6%9c%ac%e3%82%b9%e3%83%9d%e3%83%bc%e3%83%84%e3%83%9e%e3%82%b9%e3%82%bf%e3%83%bc%e3%82%ba2024%e9%95%b7%e5%b4%8e%e5%a4%a7%e4%bc%9a/
LOCATION:かきどまり
END:VEVENT
END:VCALENDAR