BEGIN:VCALENDAR
VERSION:2.0
PRODID:-//長崎県テニス協会 - ECPv6.9.0//NONSGML v1.0//EN
CALSCALE:GREGORIAN
METHOD:PUBLISH
X-WR-CALNAME:長崎県テニス協会
X-ORIGINAL-URL:https://nagasaki-pref-tennis.com
X-WR-CALDESC:長崎県テニス協会 のイベント
REFRESH-INTERVAL;VALUE=DURATION:PT1H
X-Robots-Tag:noindex
X-PUBLISHED-TTL:PT1H
BEGIN:VTIMEZONE
TZID:Asia/Tokyo
BEGIN:STANDARD
TZOFFSETFROM:+0900
TZOFFSETTO:+0900
TZNAME:JST
DTSTART:20240101T000000
END:STANDARD
END:VTIMEZONE
BEGIN:VEVENT
DTSTART;VALUE=DATE:20240503
DTEND;VALUE=DATE:20240505
DTSTAMP:20260423T153635
CREATED:20240214T220616Z
LAST-MODIFIED:20240214T220616Z
UID:3046-1714694400-1714867199@nagasaki-pref-tennis.com
SUMMARY:第28回長崎県中学生テニス選手権大会（個人戦）
DESCRIPTION:
URL:https://nagasaki-pref-tennis.com/event/%e7%ac%ac28%e5%9b%9e%e9%95%b7%e5%b4%8e%e7%9c%8c%e4%b8%ad%e5%ad%a6%e7%94%9f%e3%83%86%e3%83%8b%e3%82%b9%e9%81%b8%e6%89%8b%e6%a8%a9%e5%a4%a7%e4%bc%9a%ef%bc%88%e5%80%8b%e4%ba%ba%e6%88%a6%ef%bc%89/
LOCATION:諫早総合運動公園
END:VEVENT
BEGIN:VEVENT
DTSTART;VALUE=DATE:20240511
DTEND;VALUE=DATE:20240512
DTSTAMP:20260423T153635
CREATED:20240214T220843Z
LAST-MODIFIED:20240214T220843Z
UID:3051-1715385600-1715471999@nagasaki-pref-tennis.com
SUMMARY:第21回ねんりんピック長崎大会
DESCRIPTION:
URL:https://nagasaki-pref-tennis.com/event/%e7%ac%ac21%e5%9b%9e%e3%81%ad%e3%82%93%e3%82%8a%e3%82%93%e3%83%94%e3%83%83%e3%82%af%e9%95%b7%e5%b4%8e%e5%a4%a7%e4%bc%9a/
LOCATION:かきどまり
END:VEVENT
BEGIN:VEVENT
DTSTART;VALUE=DATE:20240519
DTEND;VALUE=DATE:20240520
DTSTAMP:20260423T153635
CREATED:20240413T223439Z
LAST-MODIFIED:20240413T223439Z
UID:3214-1716076800-1716163199@nagasaki-pref-tennis.com
SUMMARY:第2回令和６年度中体連クラブチーム予選大会
DESCRIPTION:
URL:https://nagasaki-pref-tennis.com/event/%e7%ac%ac2%e5%9b%9e%e4%bb%a4%e5%92%8c%ef%bc%96%e5%b9%b4%e5%ba%a6%e4%b8%ad%e4%bd%93%e9%80%a3%e3%82%af%e3%83%a9%e3%83%96%e3%83%81%e3%83%bc%e3%83%a0%e4%ba%88%e9%81%b8%e5%a4%a7%e4%bc%9a/
LOCATION:平和公園
END:VEVENT
BEGIN:VEVENT
DTSTART;VALUE=DATE:20240525
DTEND;VALUE=DATE:20240526
DTSTAMP:20260423T153635
CREATED:20240413T223553Z
LAST-MODIFIED:20240413T223553Z
UID:3216-1716595200-1716681599@nagasaki-pref-tennis.com
SUMMARY:国スポ最終選考会（成年男女）
DESCRIPTION:
URL:https://nagasaki-pref-tennis.com/event/%e5%9b%bd%e3%82%b9%e3%83%9d%e6%9c%80%e7%b5%82%e9%81%b8%e8%80%83%e4%bc%9a%ef%bc%88%e6%88%90%e5%b9%b4%e7%94%b7%e5%a5%b3%ef%bc%89/
LOCATION:平和公園
END:VEVENT
BEGIN:VEVENT
DTSTART;VALUE=DATE:20240526
DTEND;VALUE=DATE:20240527
DTSTAMP:20260423T153635
CREATED:20240214T221336Z
LAST-MODIFIED:20240214T221336Z
UID:3055-1716681600-1716767999@nagasaki-pref-tennis.com
SUMMARY:第47回ダンロップテニス県大会兼第35回県央テニス大会
DESCRIPTION:
URL:https://nagasaki-pref-tennis.com/event/%e7%ac%ac47%e5%9b%9e%e3%83%80%e3%83%b3%e3%83%ad%e3%83%83%e3%83%97%e3%83%86%e3%83%8b%e3%82%b9%e7%9c%8c%e5%a4%a7%e4%bc%9a%e5%85%bc%e7%ac%ac35%e5%9b%9e%e7%9c%8c%e5%a4%ae%e3%83%86%e3%83%8b%e3%82%b9/
LOCATION:諫早総合運動公園
END:VEVENT
BEGIN:VEVENT
DTSTART;TZID=Asia/Tokyo:20240526T130000
DTEND;TZID=Asia/Tokyo:20240526T150000
DTSTAMP:20260423T153635
CREATED:20240214T221051Z
LAST-MODIFIED:20240408T021041Z
UID:3053-1716728400-1716735600@nagasaki-pref-tennis.com
SUMMARY:ルール・マナー講習会
DESCRIPTION:
URL:https://nagasaki-pref-tennis.com/event/%e3%83%ab%e3%83%bc%e3%83%ab%e3%83%bb%e3%83%9e%e3%83%8a%e3%83%bc%e8%ac%9b%e7%bf%92%e4%bc%9a/
LOCATION:かきどまり会議室
END:VEVENT
END:VCALENDAR