BEGIN:VCALENDAR
VERSION:2.0
PRODID:-//長崎県テニス協会 - ECPv6.9.0//NONSGML v1.0//EN
CALSCALE:GREGORIAN
METHOD:PUBLISH
X-WR-CALNAME:長崎県テニス協会
X-ORIGINAL-URL:https://nagasaki-pref-tennis.com
X-WR-CALDESC:長崎県テニス協会 のイベント
REFRESH-INTERVAL;VALUE=DURATION:PT1H
X-Robots-Tag:noindex
X-PUBLISHED-TTL:PT1H
BEGIN:VTIMEZONE
TZID:Asia/Tokyo
BEGIN:STANDARD
TZOFFSETFROM:+0900
TZOFFSETTO:+0900
TZNAME:JST
DTSTART:20240101T000000
END:STANDARD
END:VTIMEZONE
BEGIN:VEVENT
DTSTART;VALUE=DATE:20240406
DTEND;VALUE=DATE:20240408
DTSTAMP:20260423T164213
CREATED:20240214T215644Z
LAST-MODIFIED:20240214T220004Z
UID:3032-1712361600-1712534399@nagasaki-pref-tennis.com
SUMMARY:第７２回佐世保テニストーナメント（国スポ一次予選）
DESCRIPTION:
URL:https://nagasaki-pref-tennis.com/event/%e7%ac%ac%ef%bc%97%ef%bc%92%e5%9b%9e%e4%bd%90%e4%b8%96%e4%bf%9d%e3%83%86%e3%83%8b%e3%82%b9%e3%83%88%e3%83%bc%e3%83%8a%e3%83%a1%e3%83%b3%e3%83%88%ef%bc%88%e5%9b%bd%e3%82%b9%e3%83%9d%e4%b8%80%e6%ac%a1/
LOCATION:佐世保市総合
END:VEVENT
BEGIN:VEVENT
DTSTART;VALUE=DATE:20240427
DTEND;VALUE=DATE:20240429
DTSTAMP:20260423T164213
CREATED:20240214T215901Z
LAST-MODIFIED:20240214T215901Z
UID:3041-1714176000-1714348799@nagasaki-pref-tennis.com
SUMMARY:第51回九州ジュニア長崎県予選（U16～U10）
DESCRIPTION:
URL:https://nagasaki-pref-tennis.com/event/%e7%ac%ac51%e5%9b%9e%e4%b9%9d%e5%b7%9e%e3%82%b8%e3%83%a5%e3%83%8b%e3%82%a2%e9%95%b7%e5%b4%8e%e7%9c%8c%e4%ba%88%e9%81%b8%ef%bc%88u16%ef%bd%9eu10%ef%bc%89/
LOCATION:かきどまり
END:VEVENT
END:VCALENDAR