BEGIN:VCALENDAR
VERSION:2.0
PRODID:-//長崎県テニス協会 - ECPv6.9.0//NONSGML v1.0//EN
CALSCALE:GREGORIAN
METHOD:PUBLISH
X-WR-CALNAME:長崎県テニス協会
X-ORIGINAL-URL:https://nagasaki-pref-tennis.com
X-WR-CALDESC:長崎県テニス協会 のイベント
REFRESH-INTERVAL;VALUE=DURATION:PT1H
X-Robots-Tag:noindex
X-PUBLISHED-TTL:PT1H
BEGIN:VTIMEZONE
TZID:Asia/Tokyo
BEGIN:STANDARD
TZOFFSETFROM:+0900
TZOFFSETTO:+0900
TZNAME:JST
DTSTART:20240101T000000
END:STANDARD
END:VTIMEZONE
BEGIN:VEVENT
DTSTART;VALUE=DATE:20240106
DTEND;VALUE=DATE:20240107
DTSTAMP:20260423T203346
CREATED:20230321T081016Z
LAST-MODIFIED:20230321T081016Z
UID:2082-1704499200-1704585599@nagasaki-pref-tennis.com
SUMMARY:第12回がんばらんばカップテニス大会
DESCRIPTION:
URL:https://nagasaki-pref-tennis.com/event/%e7%ac%ac12%e5%9b%9e%e3%81%8c%e3%82%93%e3%81%b0%e3%82%89%e3%82%93%e3%81%b0%e3%82%ab%e3%83%83%e3%83%97%e3%83%86%e3%83%8b%e3%82%b9%e5%a4%a7%e4%bc%9a/
LOCATION:かきどまり
END:VEVENT
BEGIN:VEVENT
DTSTART;VALUE=DATE:20240106
DTEND;VALUE=DATE:20240108
DTSTAMP:20260423T203346
CREATED:20230321T080846Z
LAST-MODIFIED:20230321T080846Z
UID:2080-1704499200-1704671999@nagasaki-pref-tennis.com
SUMMARY:第33回長崎県教職員テニス大会
DESCRIPTION:
URL:https://nagasaki-pref-tennis.com/event/%e7%ac%ac33%e5%9b%9e%e9%95%b7%e5%b4%8e%e7%9c%8c%e6%95%99%e8%81%b7%e5%93%a1%e3%83%86%e3%83%8b%e3%82%b9%e5%a4%a7%e4%bc%9a/
LOCATION:平和公園
END:VEVENT
BEGIN:VEVENT
DTSTART;VALUE=DATE:20240108
DTEND;VALUE=DATE:20240109
DTSTAMP:20260423T203346
CREATED:20230321T081105Z
LAST-MODIFIED:20230321T081105Z
UID:2084-1704672000-1704758399@nagasaki-pref-tennis.com
SUMMARY:第9回がんばらんばジュニアテニス大会
DESCRIPTION:
URL:https://nagasaki-pref-tennis.com/event/%e7%ac%ac9%e5%9b%9e%e3%81%8c%e3%82%93%e3%81%b0%e3%82%89%e3%82%93%e3%81%b0%e3%82%b8%e3%83%a5%e3%83%8b%e3%82%a2%e3%83%86%e3%83%8b%e3%82%b9%e5%a4%a7%e4%bc%9a/
LOCATION:かきどまり
END:VEVENT
BEGIN:VEVENT
DTSTART;VALUE=DATE:20240121
DTEND;VALUE=DATE:20240122
DTSTAMP:20260423T203346
CREATED:20230321T081202Z
LAST-MODIFIED:20230321T081202Z
UID:2086-1705795200-1705881599@nagasaki-pref-tennis.com
SUMMARY:第12回ダンロップカップテニス大会
DESCRIPTION:
URL:https://nagasaki-pref-tennis.com/event/%e7%ac%ac12%e5%9b%9e%e3%83%80%e3%83%b3%e3%83%ad%e3%83%83%e3%83%97%e3%82%ab%e3%83%83%e3%83%97%e3%83%86%e3%83%8b%e3%82%b9%e5%a4%a7%e4%bc%9a/
LOCATION:佐世保市総合
END:VEVENT
END:VCALENDAR