BEGIN:VCALENDAR
VERSION:2.0
PRODID:-//長崎県テニス協会 - ECPv6.9.0//NONSGML v1.0//EN
CALSCALE:GREGORIAN
METHOD:PUBLISH
X-WR-CALNAME:長崎県テニス協会
X-ORIGINAL-URL:https://nagasaki-pref-tennis.com
X-WR-CALDESC:長崎県テニス協会 のイベント
REFRESH-INTERVAL;VALUE=DURATION:PT1H
X-Robots-Tag:noindex
X-PUBLISHED-TTL:PT1H
BEGIN:VTIMEZONE
TZID:Asia/Tokyo
BEGIN:STANDARD
TZOFFSETFROM:+0900
TZOFFSETTO:+0900
TZNAME:JST
DTSTART:20250101T000000
END:STANDARD
END:VTIMEZONE
BEGIN:VEVENT
DTSTART;VALUE=DATE:20251213
DTEND;VALUE=DATE:20251215
DTSTAMP:20260421T011718
CREATED:20250204T034915Z
LAST-MODIFIED:20250204T034915Z
UID:4532-1765584000-1765756799@nagasaki-pref-tennis.com
SUMMARY:第14回長崎県高等学校冬季テニス選手権大会
DESCRIPTION:
URL:https://nagasaki-pref-tennis.com/event/%e7%ac%ac14%e5%9b%9e%e9%95%b7%e5%b4%8e%e7%9c%8c%e9%ab%98%e7%ad%89%e5%ad%a6%e6%a0%a1%e5%86%ac%e5%ad%a3%e3%83%86%e3%83%8b%e3%82%b9%e9%81%b8%e6%89%8b%e6%a8%a9%e5%a4%a7%e4%bc%9a/
LOCATION:かきどまり
END:VEVENT
BEGIN:VEVENT
DTSTART;VALUE=DATE:20251221
DTEND;VALUE=DATE:20251222
DTSTAMP:20260421T011718
CREATED:20250204T035002Z
LAST-MODIFIED:20250204T035002Z
UID:4534-1766275200-1766361599@nagasaki-pref-tennis.com
SUMMARY:第14回長崎県高等学校冬季テニス選手権大会
DESCRIPTION:
URL:https://nagasaki-pref-tennis.com/event/%e7%ac%ac14%e5%9b%9e%e9%95%b7%e5%b4%8e%e7%9c%8c%e9%ab%98%e7%ad%89%e5%ad%a6%e6%a0%a1%e5%86%ac%e5%ad%a3%e3%83%86%e3%83%8b%e3%82%b9%e9%81%b8%e6%89%8b%e6%a8%a9%e5%a4%a7%e4%bc%9a-2/
LOCATION:かきどまり
END:VEVENT
BEGIN:VEVENT
DTSTART;VALUE=DATE:20260110
DTEND;VALUE=DATE:20260111
DTSTAMP:20260421T011718
CREATED:20250204T035252Z
LAST-MODIFIED:20250204T035252Z
UID:4538-1768003200-1768089599@nagasaki-pref-tennis.com
SUMMARY:第14回がんばらんばカップテニス大会
DESCRIPTION:
URL:https://nagasaki-pref-tennis.com/event/%e7%ac%ac14%e5%9b%9e%e3%81%8c%e3%82%93%e3%81%b0%e3%82%89%e3%82%93%e3%81%b0%e3%82%ab%e3%83%83%e3%83%97%e3%83%86%e3%83%8b%e3%82%b9%e5%a4%a7%e4%bc%9a/
LOCATION:かきどまり
END:VEVENT
BEGIN:VEVENT
DTSTART;VALUE=DATE:20260110
DTEND;VALUE=DATE:20260112
DTSTAMP:20260421T011718
CREATED:20250204T035110Z
LAST-MODIFIED:20250204T035110Z
UID:4536-1768003200-1768175999@nagasaki-pref-tennis.com
SUMMARY:第35回長崎県教職員テニス大会
DESCRIPTION:
URL:https://nagasaki-pref-tennis.com/event/%e7%ac%ac35%e5%9b%9e%e9%95%b7%e5%b4%8e%e7%9c%8c%e6%95%99%e8%81%b7%e5%93%a1%e3%83%86%e3%83%8b%e3%82%b9%e5%a4%a7%e4%bc%9a/
LOCATION:平和公園
END:VEVENT
BEGIN:VEVENT
DTSTART;VALUE=DATE:20260112
DTEND;VALUE=DATE:20260113
DTSTAMP:20260421T011718
CREATED:20250204T035355Z
LAST-MODIFIED:20250204T035355Z
UID:4540-1768176000-1768262399@nagasaki-pref-tennis.com
SUMMARY:第11回がんばらんばジュニア大会
DESCRIPTION:
URL:https://nagasaki-pref-tennis.com/event/%e7%ac%ac11%e5%9b%9e%e3%81%8c%e3%82%93%e3%81%b0%e3%82%89%e3%82%93%e3%81%b0%e3%82%b8%e3%83%a5%e3%83%8b%e3%82%a2%e5%a4%a7%e4%bc%9a/
LOCATION:かきどまり
END:VEVENT
BEGIN:VEVENT
DTSTART;VALUE=DATE:20260221
DTEND;VALUE=DATE:20260223
DTSTAMP:20260421T011718
CREATED:20250204T035520Z
LAST-MODIFIED:20250204T035520Z
UID:4542-1771632000-1771804799@nagasaki-pref-tennis.com
SUMMARY:第41回少年少女テニス大会
DESCRIPTION:
URL:https://nagasaki-pref-tennis.com/event/%e7%ac%ac41%e5%9b%9e%e5%b0%91%e5%b9%b4%e5%b0%91%e5%a5%b3%e3%83%86%e3%83%8b%e3%82%b9%e5%a4%a7%e4%bc%9a/
LOCATION:かきどまり
END:VEVENT
BEGIN:VEVENT
DTSTART;VALUE=DATE:20260307
DTEND;VALUE=DATE:20260309
DTSTAMP:20260421T011718
CREATED:20250204T035624Z
LAST-MODIFIED:20250204T035624Z
UID:4544-1772841600-1773014399@nagasaki-pref-tennis.com
SUMMARY:第35回崎陽杯テニストーナメント
DESCRIPTION:
URL:https://nagasaki-pref-tennis.com/event/%e7%ac%ac35%e5%9b%9e%e5%b4%8e%e9%99%bd%e6%9d%af%e3%83%86%e3%83%8b%e3%82%b9%e3%83%88%e3%83%bc%e3%83%8a%e3%83%a1%e3%83%b3%e3%83%88/
LOCATION:かきどまり
END:VEVENT
BEGIN:VEVENT
DTSTART;VALUE=DATE:20260327
DTEND;VALUE=DATE:20260330
DTSTAMP:20260421T011718
CREATED:20250204T035743Z
LAST-MODIFIED:20250204T035743Z
UID:4546-1774569600-1774828799@nagasaki-pref-tennis.com
SUMMARY:第53回九州ジュニアテニスU18長崎県予選
DESCRIPTION:
URL:https://nagasaki-pref-tennis.com/event/%e7%ac%ac53%e5%9b%9e%e4%b9%9d%e5%b7%9e%e3%82%b8%e3%83%a5%e3%83%8b%e3%82%a2%e3%83%86%e3%83%8b%e3%82%b9u18%e9%95%b7%e5%b4%8e%e7%9c%8c%e4%ba%88%e9%81%b8/
LOCATION:かきどまり
END:VEVENT
END:VCALENDAR